BEGIN:VCALENDAR
VERSION:2.0
PRODID:-//AnandChowdhary//calendar-link//EN
BEGIN:VEVENT
DTSTART:20260220T131500Z
DTEND:20260220T134500Z
DTSTAMP:20260220T124804Z
SUMMARY: Wasserstofftag 2026
DESCRIPTION:https://www.wochedeswasserstoffs.de/veranstaltung-2026/wasserstofftag-2026
LOCATION:Buchsbachtal Halle, Buchssteige 33, 74239 Hardthausen am Kocher
UID:51722
END:VEVENT
END:VCALENDAR
